BEGIN:VCALENDAR
VERSION:2.0
PRODID:-//The Rutgers Puerto Rico Archival Collaboration (PRAC) - ECPv6.7.0//NONSGML v1.0//EN
CALSCALE:GREGORIAN
METHOD:PUBLISH
X-ORIGINAL-URL:https://prac.rutgers.edu
X-WR-CALDESC:Events for The Rutgers Puerto Rico Archival Collaboration (PRAC)
REFRESH-INTERVAL;VALUE=DURATION:PT1H
X-Robots-Tag:noindex
X-PUBLISHED-TTL:PT1H
BEGIN:VTIMEZONE
TZID:UTC
BEGIN:STANDARD
TZOFFSETFROM:+0000
TZOFFSETTO:+0000
TZNAME:UTC
DTSTART:20250101T000000
END:STANDARD
END:VTIMEZONE
BEGIN:VEVENT
DTSTART;TZID=UTC:20250202T080000
DTEND;TZID=UTC:20250202T233000
DTSTAMP:20260425T023055
CREATED:20250113T142008Z
LAST-MODIFIED:20250113T142212Z
UID:3199-1738483200-1738539000@prac.rutgers.edu
SUMMARY:Fecha límite para someter propuestas Simposio CENCOR
DESCRIPTION:La División de Arte y Colecciones del Centro de Conservación y Restauración de Puerto Rico (CENCOR) compartió su convocatoria para el 1er Simposio sobre Preservación de Colecciones Documentales\, el cual se llevará a cabo el 2 y 3 de mayo de 2025 en el Centro Por Puerto Rico de la Fundación Sila M. Calderón en Río Piedras como parte de los eventos del Mes de la Conservación del Patrimonio Cultural y de la Semana Internacional de los Museos.\n\nEl Simposio se constituirá de presentaciones y discusiones con el fin de presentar diversos proyectos\, iniciativas y crear un espacio de diálogo y reflexión sobre preservación de colecciones documentales en Puerto Rico y el Caribe.\n\nSi le interesa someter una propuesta para presentar una ponencia\, puede visitar la página web del evento haciendo click en el próximo enlace: https://www.cencorpr.org/simposio-preservacion. La fecha límite para someter propuestas es el 2 de febrero de 2025.\n\nCualquier duda o pregunta sobre el evento puede comunicarse con Sofía Feliciano Centeno\, Coordinadora en Proyectos de la División de Arte y Colecciones en CENCOR a colecciones@cencorpr.org.
URL:https://prac.rutgers.edu/event/fecha-limite-para-someter-propuestas-simposio-cencor/
CATEGORIES:Deadline
END:VEVENT
END:VCALENDAR