BEGIN:VCALENDAR
VERSION:2.0
PRODID:-//The Rutgers Puerto Rico Archival Collaboration (PRAC) - ECPv6.7.0//NONSGML v1.0//EN
CALSCALE:GREGORIAN
METHOD:PUBLISH
X-WR-CALNAME:The Rutgers Puerto Rico Archival Collaboration (PRAC)
X-ORIGINAL-URL:https://prac.rutgers.edu
X-WR-CALDESC:Events for The Rutgers Puerto Rico Archival Collaboration (PRAC)
REFRESH-INTERVAL;VALUE=DURATION:PT1H
X-Robots-Tag:noindex
X-PUBLISHED-TTL:PT1H
BEGIN:VTIMEZONE
TZID:UTC
BEGIN:STANDARD
TZOFFSETFROM:+0000
TZOFFSETTO:+0000
TZNAME:UTC
DTSTART:20240101T000000
END:STANDARD
END:VTIMEZONE
BEGIN:VEVENT
DTSTART;VALUE=DATE:20240701
DTEND;VALUE=DATE:20240825
DTSTAMP:20260422T103724
CREATED:20240524T165655Z
LAST-MODIFIED:20240629T204244Z
UID:1099-1719792000-1724543999@prac.rutgers.edu
SUMMARY:Graduate Summer Program
DESCRIPTION:
URL:https://prac.rutgers.edu/event/graduate-summer-program/
CATEGORIES:Deadline,Events
END:VEVENT
BEGIN:VEVENT
DTSTART;TZID=UTC:20240701T080000
DTEND;TZID=UTC:20240716T170000
DTSTAMP:20260422T103724
CREATED:20240524T164040Z
LAST-MODIFIED:20240525T164839Z
UID:1094-1719820800-1721149200@prac.rutgers.edu
SUMMARY:Internships Begin
DESCRIPTION:
URL:https://prac.rutgers.edu/event/internships-begin/
CATEGORIES:Deadline,Events
END:VEVENT
END:VCALENDAR