BEGIN:VCALENDAR
VERSION:2.0
PRODID:-//The Rutgers Puerto Rico Archival Collaboration (PRAC) - ECPv6.7.0//NONSGML v1.0//EN
CALSCALE:GREGORIAN
METHOD:PUBLISH
X-WR-CALNAME:The Rutgers Puerto Rico Archival Collaboration (PRAC)
X-ORIGINAL-URL:https://prac.rutgers.edu
X-WR-CALDESC:Events for The Rutgers Puerto Rico Archival Collaboration (PRAC)
REFRESH-INTERVAL;VALUE=DURATION:PT1H
X-Robots-Tag:noindex
X-PUBLISHED-TTL:PT1H
BEGIN:VTIMEZONE
TZID:UTC
BEGIN:STANDARD
TZOFFSETFROM:+0000
TZOFFSETTO:+0000
TZNAME:UTC
DTSTART:20250101T000000
END:STANDARD
END:VTIMEZONE
BEGIN:VEVENT
DTSTART;TZID=UTC:20251002T180000
DTEND;TZID=UTC:20251002T180000
DTSTAMP:20260422T100914
CREATED:20250908T200152Z
LAST-MODIFIED:20250908T200646Z
UID:6039-1759428000-1759428000@prac.rutgers.edu
SUMMARY:Taller introductorio sobre el uso de Omeka
DESCRIPTION:Nos complace anunciar que estaremos ofreciendo un Taller introductorio sobre el uso de Omeka\, una plataforma de código abierto ampliamente utilizada para la creación de exposiciones digitales y la gestión de colecciones archivísticas. Este taller virtual está diseñado especialmente para los pasantes del R/PRAC y el personal de las instituciones con las que colaboramos. \nDurante la sesión\, exploraremos las funciones básicas de Omeka\, la creación de colecciones y exposiciones\, y cómo esta herramienta puede ser útil para el trabajo en archivos históricos y proyectos digitales. \nEl taller estará a cargo de Jeanmary Lugo\, Bibliotecaria de la Biblioteca y Hemeroteca Puertorriqueña de la Universidad de Puerto Rico\, Recinto de Río Piedras y Co-Investigadora Principal del Proyecto sobre Gestión de Colecciones Digitales GLAM DCM – PR (2024-2026). La sesión se llevará a cabo el jueves 2 de octubre a las 6:00pm de manera virtual por Zoom. \nPara nuestros interns\, la participación al taller contará como parte de sus horas de internado. \nPara confirmar su asistencia y recibir el enlace\, por favor regístrense aquí: \nhttps://rutgers.zoom.us/meeting/register/p1dK7ZknTLmZTdUnSjxkLQ
URL:https://prac.rutgers.edu/event/taller-introductorio-sobre-el-uso-de-omeka/
CATEGORIES:Events
END:VEVENT
BEGIN:VEVENT
DTSTART;TZID=UTC:20251023T043000
DTEND;TZID=UTC:20251023T190000
DTSTAMP:20260422T100914
CREATED:20250905T134353Z
LAST-MODIFIED:20251020T012714Z
UID:6016-1761193800-1761246000@prac.rutgers.edu
SUMMARY:Presentación de Libro\, Blogs\, y Recepción en Honor a Hilda T. Ayala
DESCRIPTION:El jueves 23 de octubre tendremos un evento con varias dimensiones. \nPrimero\, presentaremos el primer libro de la serie de Libros Perdidos del PRAC. El trabajo es de Silvia Álvarez Curbelo. Vengan para que se enteren del título y la historia detrás de la historia. Tendremos una presentación del libro a las 4:30. \nA las 5:15 presentamos los títulos de los blogs de los interns de verano y los interns “regulares”. \nY a las 5:30 tendremos una recepción (con picadera) en honor a Hilda Teresa Ayala\, exdirectora del Archivo General de Puerto Rico. \nEl evento será en la UPR\, Biblioteca de la Escuela de Planificacion\, Torre Universitaria\, Torre Central \n  \n 
URL:https://prac.rutgers.edu/event/presentacion-de-libro-blogs-y-recepcion-en-honor-a-hilda-t-ayala/
LOCATION:Biblioteca\, Escuela Graduada de Planificacion–Universidad de Puerto Rico\, Plaza Universitaria--Torre Central--6to Piso--Ave. Ponce de Leon\, San Juan\, Puerto Rico
CATEGORIES:Events
ATTACH;FMTTYPE=image/png:https://sites.rutgers.edu/prac/wp-content/uploads/sites/1210/2025/09/Planificacion_Horario.png
END:VEVENT
BEGIN:VEVENT
DTSTART;VALUE=DATE:20251101
DTEND;VALUE=DATE:20251102
DTSTAMP:20260422T100914
CREATED:20250919T180432Z
LAST-MODIFIED:20250919T180507Z
UID:6251-1761955200-1762041599@prac.rutgers.edu
SUMMARY:Entrega de propuesta para blog
DESCRIPTION:La fecha límite para la entrega de propuestas para blogs es el 1 de noviembre. Debe haber completado el siguiente formulario: https://docs.google.com/forms/d/e/1FAIpQLSd6OWlkIuC0FDlkITMm3ED-2XQdtjczk0fuacpQbae8j01RYw/viewform \nLa propuesta se debe enviar por correo electrónico en formato Word a alauria@lcs.rutgers.edu.
URL:https://prac.rutgers.edu/event/entrega-de-propuesta-para-blog/
CATEGORIES:Deadline
END:VEVENT
BEGIN:VEVENT
DTSTART;TZID=UTC:20260202T000000
DTEND;TZID=UTC:20260202T235900
DTSTAMP:20260422T100914
CREATED:20250923T144826Z
LAST-MODIFIED:20260210T234942Z
UID:6438-1769990400-1770076740@prac.rutgers.edu
SUMMARY:Fecha límite para solicitar Internado de Verano 2026
DESCRIPTION:El 15 de febrero de 2026 es la fecha límite para solicitar al Internado de Verano para Estudiantes Graduados 2026 del Rutgets/Puerto Rico Archival Collaboration.
URL:https://prac.rutgers.edu/event/fecha-limite-para-solicitar-internado-de-verano-2026/
CATEGORIES:Deadline
END:VEVENT
END:VCALENDAR