BEGIN:VCALENDAR
VERSION:2.0
PRODID:-//The Rutgers Puerto Rico Archival Collaboration (PRAC) - ECPv6.7.0//NONSGML v1.0//EN
CALSCALE:GREGORIAN
METHOD:PUBLISH
X-WR-CALNAME:The Rutgers Puerto Rico Archival Collaboration (PRAC)
X-ORIGINAL-URL:https://prac.rutgers.edu
X-WR-CALDESC:Events for The Rutgers Puerto Rico Archival Collaboration (PRAC)
REFRESH-INTERVAL;VALUE=DURATION:PT1H
X-Robots-Tag:noindex
X-PUBLISHED-TTL:PT1H
BEGIN:VTIMEZONE
TZID:UTC
BEGIN:STANDARD
TZOFFSETFROM:+0000
TZOFFSETTO:+0000
TZNAME:UTC
DTSTART:20240101T000000
END:STANDARD
END:VTIMEZONE
BEGIN:VEVENT
DTSTART;TZID=UTC:20240522T190000
DTEND;TZID=UTC:20240522T203000
DTSTAMP:20260426T034313
CREATED:20240524T171901Z
LAST-MODIFIED:20240524T171901Z
UID:1103-1716404400-1716409800@prac.rutgers.edu
SUMMARY:Conversatorio con Hilda T. Ayala\, Archivera Nacional de Puerto Rico
DESCRIPTION:
URL:https://prac.rutgers.edu/event/conversatorio-con-hilda-t-ayala-archivera-nacional-de-puerto-rico/
CATEGORIES:Events
END:VEVENT
END:VCALENDAR