BEGIN:VCALENDAR
VERSION:2.0
PRODID:-//The Rutgers Puerto Rico Archival Collaboration (PRAC) - ECPv6.7.0//NONSGML v1.0//EN
CALSCALE:GREGORIAN
METHOD:PUBLISH
X-ORIGINAL-URL:https://prac.rutgers.edu
X-WR-CALDESC:Events for The Rutgers Puerto Rico Archival Collaboration (PRAC)
REFRESH-INTERVAL;VALUE=DURATION:PT1H
X-Robots-Tag:noindex
X-PUBLISHED-TTL:PT1H
BEGIN:VTIMEZONE
TZID:UTC
BEGIN:STANDARD
TZOFFSETFROM:+0000
TZOFFSETTO:+0000
TZNAME:UTC
DTSTART:20250101T000000
END:STANDARD
END:VTIMEZONE
BEGIN:VEVENT
DTSTART;TZID=UTC:20250408T180000
DTEND;TZID=UTC:20250408T200000
DTSTAMP:20260419T221951
CREATED:20250331T191217Z
LAST-MODIFIED:20250331T191725Z
UID:3991-1744135200-1744142400@prac.rutgers.edu
SUMMARY:Taller de digitalización: Parte I
DESCRIPTION:Introducción a la digitalización por Emely Torres.
URL:https://prac.rutgers.edu/event/taller-de-digitalizacion-parte-i/
LOCATION:Zoom
CATEGORIES:Events
END:VEVENT
BEGIN:VEVENT
DTSTART;TZID=UTC:20250422T180000
DTEND;TZID=UTC:20250422T200000
DTSTAMP:20260419T221951
CREATED:20250331T192136Z
LAST-MODIFIED:20250331T192213Z
UID:4003-1745344800-1745352000@prac.rutgers.edu
SUMMARY:Taller de digitalización: Parte II
DESCRIPTION:Planificación del proceso de digitalización por Emely Torres.
URL:https://prac.rutgers.edu/event/taller-de-digitalizacion-parte-ii-2/
LOCATION:Zoom
CATEGORIES:Events
END:VEVENT
BEGIN:VEVENT
DTSTART;TZID=UTC:20250424T180000
DTEND;TZID=UTC:20250424T200000
DTSTAMP:20260419T221951
CREATED:20250331T192026Z
LAST-MODIFIED:20250331T192219Z
UID:4000-1745517600-1745524800@prac.rutgers.edu
SUMMARY:Taller de digitalización: Parte III
DESCRIPTION:Buenas prácticas y prácticas aceptables en la digitalización por Emely Torres
URL:https://prac.rutgers.edu/event/taller-de-digitalizacion-parte-iii/
CATEGORIES:Events
END:VEVENT
END:VCALENDAR